BEGIN:VCALENDAR
VERSION:2.0
PRODID:icalendar-ruby
CALSCALE:GREGORIAN
METHOD:PUBLISH
BEGIN:VEVENT
DTSTAMP:20260422T114024Z
UID:17-491929@bethelwinchester.com
DTSTART:20261026T220000Z
DTEND:20261026T230000Z
CLASS:PUBLIC
CREATED:20260421T210447
DESCRIPTION:TOPS (Take Off Pounds Sensibly)
LAST-MODIFIED:20260421T210447
LOCATION:Bethel Lutheran Church Fellowship Hall 
SUMMARY:TOPS            (Take Off Pounds Sensibly)
URL;VALUE=URI:https://www.bethelwinchester.com/events/tops-take-off-pounds-
 sensibly--17/2026-10-26
END:VEVENT
END:VCALENDAR
