BEGIN:VCALENDAR
VERSION:2.0
PRODID:icalendar-ruby
CALSCALE:GREGORIAN
METHOD:PUBLISH
BEGIN:VEVENT
DTSTAMP:20260422T053607Z
UID:17-491925@bethelwinchester.com
DTSTART:20260928T220000Z
DTEND:20260928T230000Z
CLASS:PUBLIC
CREATED:20260421T210447
DESCRIPTION:TOPS (Take Off Pounds Sensibly)
LAST-MODIFIED:20260421T210447
LOCATION:Bethel Lutheran Church Fellowship Hall 
SUMMARY:TOPS            (Take Off Pounds Sensibly)
URL;VALUE=URI:https://www.bethelwinchester.com/events/tops-take-off-pounds-
 sensibly--17/2026-09-28
END:VEVENT
END:VCALENDAR
