BEGIN:VCALENDAR
VERSION:2.0
PRODID:icalendar-ruby
CALSCALE:GREGORIAN
METHOD:PUBLISH
BEGIN:VEVENT
DTSTAMP:20260421T223438Z
UID:5-491455@bethelwinchester.com
DTSTART:20261018T133000Z
DTEND:20261018T143000Z
CLASS:PUBLIC
CREATED:20260421T182559
DESCRIPTION:Sunday Worship
LAST-MODIFIED:20260421T182559
LOCATION:
SUMMARY:Sunday Worship
URL;VALUE=URI:https://www.bethelwinchester.com/events/sunday-worship/2026-1
 0-18
END:VEVENT
END:VCALENDAR
