BEGIN:VCALENDAR
VERSION:2.0
PRODID:icalendar-ruby
CALSCALE:GREGORIAN
METHOD:PUBLISH
BEGIN:VEVENT
DTSTAMP:20260421T142014Z
UID:5-489981@bethelwinchester.com
DTSTART:20260906T133000Z
DTEND:20260906T143000Z
CLASS:PUBLIC
CREATED:20260421T075634
DESCRIPTION:Sunday Worship
LAST-MODIFIED:20260421T075634
LOCATION:
SUMMARY:Sunday Worship
URL;VALUE=URI:https://www.bethelwinchester.com/events/sunday-worship/2026-0
 9-06
END:VEVENT
END:VCALENDAR
