BEGIN:VCALENDAR
VERSION:2.0
PRODID:icalendar-ruby
CALSCALE:GREGORIAN
METHOD:PUBLISH
BEGIN:VEVENT
DTSTAMP:20260421T061114Z
UID:5-489608@bethelwinchester.com
DTSTART:20260726T133000Z
DTEND:20260726T143000Z
CLASS:PUBLIC
CREATED:20260420T204956
DESCRIPTION:Sunday Worship
LAST-MODIFIED:20260420T204956
LOCATION:
SUMMARY:Sunday Worship
URL;VALUE=URI:https://www.bethelwinchester.com/events/sunday-worship/2026-0
 7-26
END:VEVENT
END:VCALENDAR
