BEGIN:VCALENDAR
VERSION:2.0
PRODID:icalendar-ruby
CALSCALE:GREGORIAN
METHOD:PUBLISH
BEGIN:VEVENT
DTSTAMP:20260420T235632Z
UID:5-489238@bethelwinchester.com
DTSTART:20260628T133000Z
DTEND:20260628T143000Z
CLASS:PUBLIC
CREATED:20260420T181503
DESCRIPTION:Sunday Worship
LAST-MODIFIED:20260420T181503
LOCATION:
SUMMARY:Sunday Worship
URL;VALUE=URI:https://www.bethelwinchester.com/events/sunday-worship/2026-0
 6-28
END:VEVENT
END:VCALENDAR
