BEGIN:VCALENDAR
VERSION:2.0
PRODID:icalendar-ruby
CALSCALE:GREGORIAN
METHOD:PUBLISH
BEGIN:VEVENT
DTSTAMP:20260420T211827Z
UID:5-488870@bethelwinchester.com
DTSTART:20260614T133000Z
DTEND:20260614T143000Z
CLASS:PUBLIC
CREATED:20260420T153905
DESCRIPTION:Sunday Worship
LAST-MODIFIED:20260420T153905
LOCATION:
SUMMARY:Sunday Worship
URL;VALUE=URI:https://www.bethelwinchester.com/events/sunday-worship/2026-0
 6-14
END:VEVENT
END:VCALENDAR
