BEGIN:VCALENDAR
VERSION:2.0
PRODID:icalendar-ruby
CALSCALE:GREGORIAN
METHOD:PUBLISH
BEGIN:VEVENT
DTSTAMP:20260421T211942Z
UID:5-491042@bethelwinchester.com
DTSTART:20251130T143000Z
DTEND:20251130T153000Z
CLASS:PUBLIC
CREATED:20260421T154759
DESCRIPTION:Sunday Worship
LAST-MODIFIED:20260421T154759
LOCATION:
SUMMARY:Sunday Worship
URL;VALUE=URI:https://www.bethelwinchester.com/events/sunday-worship/2025-1
 1-30
END:VEVENT
END:VCALENDAR
