BEGIN:VCALENDAR
VERSION:2.0
PRODID:icalendar-ruby
CALSCALE:GREGORIAN
METHOD:PUBLISH
BEGIN:VEVENT
DTSTAMP:20260421T195146Z
UID:5-491041@bethelwinchester.com
DTSTART:20251123T143000Z
DTEND:20251123T153000Z
CLASS:PUBLIC
CREATED:20260421T154759
DESCRIPTION:Sunday Worship
LAST-MODIFIED:20260421T154759
LOCATION:
SUMMARY:Sunday Worship
URL;VALUE=URI:https://www.bethelwinchester.com/events/sunday-worship/2025-1
 1-23
END:VEVENT
END:VCALENDAR
