BEGIN:VCALENDAR
VERSION:2.0
PRODID:icalendar-ruby
CALSCALE:GREGORIAN
METHOD:PUBLISH
BEGIN:VEVENT
DTSTAMP:20260421T182544Z
UID:5-490673@bethelwinchester.com
DTSTART:20251116T143000Z
DTEND:20251116T153000Z
CLASS:PUBLIC
CREATED:20260421T131140
DESCRIPTION:Sunday Worship
LAST-MODIFIED:20260421T131140
LOCATION:
SUMMARY:Sunday Worship
URL;VALUE=URI:https://www.bethelwinchester.com/events/sunday-worship/2025-1
 1-16
END:VEVENT
END:VCALENDAR
