BEGIN:VCALENDAR
VERSION:2.0
PRODID:icalendar-ruby
CALSCALE:GREGORIAN
METHOD:PUBLISH
BEGIN:VEVENT
DTSTAMP:20260421T154250Z
UID:5-490304@bethelwinchester.com
DTSTART:20251102T143000Z
DTEND:20251102T153000Z
CLASS:PUBLIC
CREATED:20260421T103210
DESCRIPTION:Sunday Worship
LAST-MODIFIED:20260421T103210
LOCATION:
SUMMARY:Sunday Worship
URL;VALUE=URI:https://www.bethelwinchester.com/events/sunday-worship/2025-1
 1-02
END:VEVENT
END:VCALENDAR
