BEGIN:VCALENDAR
VERSION:2.0
PRODID:icalendar-ruby
CALSCALE:GREGORIAN
METHOD:PUBLISH
BEGIN:VEVENT
DTSTAMP:20260420T122802Z
UID:92-481686@bethelwinchester.com
DTSTART:20260501T213000Z
DTEND:20260501T223000Z
CLASS:PUBLIC
CREATED:20260417T104619
DESCRIPTION:
LAST-MODIFIED:20260417T104619
LOCATION:Corner of Germain and Stewart 
SUMMARY:Apple Blossom Firefighter Parade 
URL;VALUE=URI:https://www.bethelwinchester.com/events/apple-blossom-firefig
 hter-parade/2026-05-01
ATTACH;FILENAME=firefighter-parade.jpg;FMTTYPE=image/jpeg:https://dq5pwpg1q
 8ru0.cloudfront.net/2026/04/17/14/46/18/f95bb518-2fde-48aa-9acd-e76620a0bf
 e1/firefighter-parade.jpg
END:VEVENT
END:VCALENDAR
